{"text_format":"1","workbook":"xlsx","n_sheets":2,"sheets":["UM Riders","Riders by Route"],"not_rendered":{"charts":1,"images":0,"macros":0,"external_links":1,"defined_names":23,"comments":1,"pivot_tables":0},"unopened":[],"bounds":{"document_bytes":16777216,"sheet_cells":100000,"rows_first":2000,"rows_last":500,"rows_between":2000,"halvings":0,"cell_chars":16384,"cell_head_chars":4096},"cells_cut":0,"cells_raw":0,"read":"whole","date_system":"1900"}

{"sheet":"UM Riders","index":0,"n_rows":27,"n_cols":16,"rows_kept":27,"cut":false,"hidden":false,"merged":[[0,0,0,15]]}
["UM MONTHLY RIDERSHIP"]
[]
["Fiscal Year","JUL","AUG","SEP","OCT","NOV","DEC","JAN","FEB","MAR","APR","MAY","JUN","UM","TOTAL RIDES","% UM"]
[1991,null,null,5505,19649,19201,10649,28689,22261,17162,15777,13288,7603,{"$f":"SUM(B4:M4)","v":159784},{"$f":"[1]FYMonth!N18","v":583519},{"$f":"N4/O4","v":0.27382827294398299}]
[1992,2617,2396,4078,20230,23490,13263,24644,22044,15518,17034,13413,5148,163875,{"$f":"[1]FYMonth!N19","v":577168},0.2839294624788623]
[1993,2934,2743,13147,14163,14229,15298,15084,20005,17071,15211,8364,6058,144307,{"$f":"[1]FYMonth!N20","v":477774},0.30204029520233416]
[1994,4950,8463,15069,14382,16757,14288,13086,17750,14849,14746,8136,5648,148124,{"$f":"[1]FYMonth!N21","v":499317},0.29665322830987129]
[1995,4912,8414,14861,15721,16936,12970,16590,18474,17739,15181,9444,6015,157257,{"$f":"[1]FYMonth!N22","v":549297},0.28628774597348977]
[1996,4303,5444,15616,16926,17421,14250,13542,28773,24606,16816,13205,7610,178512,{"$f":"[1]FYMonth!N23","v":558161},0.31982170019044687]
[1997,6540,6521,18095,21544,19521,19225,16134,24789,20688,18858,10674,7550,190139,{"$f":"[1]FYMonth!N24","v":615273},0.30903192566551757]
[1998,6831,6072,19751,21658,18056,16158,15531,22504,19128,16422,9728,8204,180043,{"$f":"[1]FYMonth!N25","v":651489},0.2763561625752699]
[1999,5704,6417,18760,17925,15773,15155,12222,20461,18338,13845,11399,6575,162574,{"$f":"[1]FYMonth!N26","v":678393},0.23964575106170022]
[2000,5090,6818,16250,16775,14695,13006,12297,18853,16050,14357,6899,6434,147524,{"$f":"[1]FYMonth!N27","v":693349},0.21277019221200291]
[2001,4998,2721,17923,21102,17707,17859,12758,23081,19229,18325,10347,6192,172242,{"$f":"[1]FYMonth!N28","v":700135},0.24601255472158942]
[2002,6800,6235,17335,23608,19004,18125,14909,23171,21321,19082,10983,7624,188197,{"$f":"[1]FYMonth!N29","v":710007},0.26506358388015894]
[2003,7146,6983,16826,20152,16143,14677,13620,20732,18526,14704,10077,6812,166398,{"$f":"[1]FYMonth!N30","v":661221},0.25165262446292541]
[2004,6226,5518,14990,18997,17518,15667,14185,19381,18988,12491,10388,7857,162206,{"$f":"[1]FYMonth!N31","v":678281},0.23914277415997204]
[2005,8223,8913,18115,17628,15813,13354,13845,17858,17251,12414,11163,8744,163321,{"$f":"[1]FYMonth!$N$32","v":644463},0.25342184112974681]
[2006,8126,10423,20395,20345,19715,17391,16119,21753,21352,13921,13390,9952,192882,{"$f":"[1]FYMonth!$N$33","v":695229},0.27743664317800321]
[2007,8533,13079,21678,22723,22242,15725,19696,22022,19735,14608,13629,8141,201811,{"$f":"[1]FYMonth!$N$34","v":735243},0.27448204199155923]
[2008,10268,14250,17928,22704,21436,15170,22681,27315,21889,17461,14512,10227,215841,{"$f":"[1]FYMonth!$N$35","v":796520},0.27098001305679709]
[2009,12578,15612,25302,26920,19822,16010,21468,27870,null,null,null,null,165582,{"$f":"[1]FYMonth!$N$36","v":296461},0.55852877781563171]
["AVG.*",{"$f":"AVERAGE(B4:B22)","v":6487.7222222222226},7612.333333333333,16401.263157894737,19639.57894736842,18183.105263157893,15170.526315789473,{"$f":"AVERAGE(H4:H22)","v":16689.473684210527},{"$f":"AVERAGE(I4:I22)","v":22057.736842105263},{"$f":"AVERAGE(J4:J21)","v":18857.777777777777},{"$f":"AVERAGE(K4:K21)","v":15625.166666666666},{"$f":"AVERAGE(L4:L21)","v":11057.722222222223},{"$f":"AVERAGE(M4:M21)","v":7355.2222222222226},{"$f":"AVERAGE(N4:N20)","v":169364.4705882353},{"$f":"AVERAGE(O4:O20)","v":629901.1176470588},0.26887469452488294]
[]
["* = 1991 - 2009 most recent month",null,null,null,null,null,null,"= Highest month/year"]
[]
["Total UM Passengers (through most recent month)",null,null,null,null,null,null,null,null,null,null,null,null,{"$f":"SUM(N4:N20)","v":2879196}]

{"sheet":"Riders by Route","index":1,"n_rows":22,"n_cols":15,"rows_kept":22,"cut":false,"hidden":false,"merged":[[0,0,0,14]]}
["UM Riders by Route"]
[]
[null,1,2,3,4,5,6,7,8,9,10,11,12,"99*","Total"]
["2008-12-01",{"$f":"3538-32+1274","v":4780},{"$f":"1736+64","v":1800},{"$f":"353+29","v":382},{"$f":"340+9","v":349},{"$f":"663+41","v":704},{"$f":"869+180+9","v":1058},{"$f":"694+10","v":704},{"$f":"1605+73","v":1678},{"$f":"664+53","v":717},{"$f":"256+13","v":269},{"$f":"16+362","v":378},{"$f":"1722+1438","v":3160},{"$f":"3+28","v":31},{"$f":"SUM(B4:N4)","v":16010}]
["2009-01-01",{"$f":"4338+1962-40","v":6260},{"$f":"2091+55","v":2146},{"$f":"518+64","v":582},{"$f":"401+9","v":410},{"$f":"909+76","v":985},{"$f":"1164+218+7","v":1389},{"$f":"824+13","v":837},{"$f":"2100+133","v":2233},{"$f":"798+51","v":849},{"$f":"338+14","v":352},{"$f":"383+16","v":399},{"$f":"2130+2843","v":4973},{"$f":"51+2","v":53},{"$f":"SUM(B5:N5)","v":21468}]
["2009-02-01",{"$f":"2535+6379","v":8914},{"$f":"66+2399","v":2465},{"$f":"102+828","v":930},{"$f":"8+496","v":504},{"$f":"96+1271","v":1367},{"$f":"15+230+1221","v":1466},{"$f":"20+889","v":909},{"$f":"121+2978","v":3099},{"$f":"96+1138","v":1234},{"$f":"12+396","v":408},{"$f":"11+422","v":433},{"$f":"3416+2648","v":6064},{"$f":"57+20","v":77},{"$f":"SUM(B6:N6)","v":27870}]
[]
[]
[]
[]
[]
[]
[]
[]
[]
[]
[]
[]
[]
[]
[]
["Route 99 includes passengers who ride a bus traveling to or from the bus barn."]